BEGIN:VCALENDAR
VERSION:2.0
CALSCALE:GREGORIAN
BEGIN:VEVENT
DTSTART;TZID=Europe/London:20191206T130000
DTEND;TZID= Europe/London:20191206T150000
UID:71484e6a138cfd9107d49d3e2ea1e607
DTSTAMP:1776761962
LOCATION:Showcase Regent St, 12 Regent Street, St James\'s, SW1Y 4PE
DESCRIPTION:Discover the latest power dress and Preen floral prints in the Preen Collection.
SUMMARY:Preen Sample Sale
STATUS:CONFIRMED
END:VEVENT
END:VCALENDAR