BEGIN:VCALENDAR
VERSION:2.0
CALSCALE:GREGORIAN
BEGIN:VEVENT
DTSTART;TZID=America/Los_Angeles:20210806T000000
DTEND;TZID= America/Los_Angeles:20210806T140000
UID:27941d1935e5ab7a15ae875a41d5a3f7
DTSTAMP:1776877880
LOCATION:Showcase Partner Online Store, , 
DESCRIPTION:
SUMMARY:Mulberry Factory Shop - Up to 80% off
STATUS:CONFIRMED
END:VEVENT
END:VCALENDAR