BEGIN:VCALENDAR
VERSION:2.0
CALSCALE:GREGORIAN
BEGIN:VEVENT
DTSTART;TZID=America/Los_Angeles:20210616T000000
DTEND;TZID= America/Los_Angeles:20210616T040000
UID:184cc30fbedbc216a9244f7c84f01da8
DTSTAMP:1776960320
LOCATION:UK Online Store, , 
DESCRIPTION:
SUMMARY:Brunello Cucinelli Kids Online - Up to 80% off
STATUS:CONFIRMED
END:VEVENT
END:VCALENDAR