BEGIN:VCALENDAR
VERSION:2.0
CALSCALE:GREGORIAN
BEGIN:VEVENT
DTSTART;TZID=Europe/London:20260506T090000
DTEND;TZID= Europe/London:20260506T103000
UID:e40148d764452d1c5197c7207028beae
DTSTAMP:1776960436
LOCATION:Showcase Regent St, 12 Regent Street, St James\'s, SW1Y 4PE
DESCRIPTION:
SUMMARY:Linda Farrow Sample Sale
STATUS:CONFIRMED
END:VEVENT
END:VCALENDAR