BEGIN:VCALENDAR
VERSION:2.0
CALSCALE:GREGORIAN
BEGIN:VEVENT
DTSTART;TZID=Europe/London:20260429T140000
DTEND;TZID= Europe/London:20260429T153000
UID:6ee0dbb2ae08cbb57fe67cf5e525b39e
DTSTAMP:1776762062
LOCATION:Showcase Regent St, 12 Regent Street, St James\'s, SW1Y 4PE
DESCRIPTION:
SUMMARY:Luxury Designer Shoe Sale
STATUS:CONFIRMED
END:VEVENT
END:VCALENDAR