BEGIN:VCALENDAR
VERSION:2.0
CALSCALE:GREGORIAN
BEGIN:VEVENT
DTSTART;TZID=America/New_York:20260319T100000
DTEND;TZID= America/New_York:20260319T113000
UID:a6ebce52a76209d32e442b1d1fce8056
DTSTAMP:1776864959
LOCATION:Midtown East, 225 E 57th St, 10022
DESCRIPTION:
SUMMARY:Carl Friedrik Sample Sale
STATUS:CONFIRMED
END:VEVENT
END:VCALENDAR