BEGIN:VCALENDAR
VERSION:2.0
CALSCALE:GREGORIAN
BEGIN:VEVENT
DTSTART;TZID=Europe/London:20260324T090000
DTEND;TZID= Europe/London:20260324T103000
UID:da6609efa3fd9a8c8ab63c67422a2f92
DTSTAMP:1776678879
LOCATION:Showcase Regent St, 12 Regent Street, St James\'s, SW1Y 4PE
DESCRIPTION:
SUMMARY:Wiggy Kit Sample Sale
STATUS:CONFIRMED
END:VEVENT
END:VCALENDAR