BEGIN:VCALENDAR
VERSION:2.0
CALSCALE:GREGORIAN
BEGIN:VEVENT
DTSTART;TZID=America/Los_Angeles:20260121T000000
DTEND;TZID= America/Los_Angeles:20260121T155900
UID:88ce44499fc43386bbc2472cb248ab1f
DTSTAMP:1776681008
LOCATION:UK Online Store, , 
DESCRIPTION:
SUMMARY:Percy & Reed Sample Sale
STATUS:CONFIRMED
END:VEVENT
END:VCALENDAR