BEGIN:VCALENDAR
VERSION:2.0
CALSCALE:GREGORIAN
BEGIN:VEVENT
DTSTART;TZID=Europe/London:20251210T100000
DTEND;TZID= Europe/London:20251210T110000
UID:efc24105e016811ad9a44bd79366cb30
DTSTAMP:1776768860
LOCATION:Showcase Regent St, 12 Regent Street, St James\'s, SW1Y 4PE
DESCRIPTION:
SUMMARY:Garrard Sample Sale
STATUS:CONFIRMED
END:VEVENT
END:VCALENDAR