BEGIN:VCALENDAR
VERSION:2.0
CALSCALE:GREGORIAN
BEGIN:VEVENT
DTSTART;TZID=America/Los_Angeles:20250909T000000
DTEND;TZID= America/Los_Angeles:20250909T155900
UID:c3af7e16e65732f4ad0a20e27d2041cc
DTSTAMP:1777138394
LOCATION:UK Online Store, , 
DESCRIPTION:
SUMMARY:Sana Jardin Sample Sale
STATUS:CONFIRMED
END:VEVENT
END:VCALENDAR