BEGIN:VCALENDAR
VERSION:2.0
CALSCALE:GREGORIAN
BEGIN:VEVENT
DTSTART;TZID=America/Los_Angeles:20250826T000000
DTEND;TZID= America/Los_Angeles:20250826T155900
UID:aa7913365a41dab43af37bc110771a03
DTSTAMP:1777139078
LOCATION:UK Online Store, , 
DESCRIPTION:
SUMMARY:Smeg Online Sample Sale
STATUS:CONFIRMED
END:VEVENT
END:VCALENDAR