BEGIN:VCALENDAR
VERSION:2.0
CALSCALE:GREGORIAN
BEGIN:VEVENT
DTSTART;TZID=Europe/London:20250730T090000
DTEND;TZID= Europe/London:20250730T103000
UID:20c9d5d040426a3252f87cb1b39ab9a1
DTSTAMP:1776761632
LOCATION:Showcase Regent St, 12 Regent Street, St James\'s, SW1Y 4PE
DESCRIPTION:
SUMMARY:Halfpenny London Sample Sale
STATUS:CONFIRMED
END:VEVENT
END:VCALENDAR