BEGIN:VCALENDAR
VERSION:2.0
CALSCALE:GREGORIAN
BEGIN:VEVENT
DTSTART;TZID=America/Los_Angeles:20250624T050000
DTEND;TZID= America/Los_Angeles:20250624T205900
UID:b26d87210df7a98943c5b2df4806f331
DTSTAMP:1777125899
LOCATION:US Online Store, , 
DESCRIPTION:
SUMMARY:Fabergé Online Sample Sale
STATUS:CONFIRMED
END:VEVENT
END:VCALENDAR