BEGIN:VCALENDAR
VERSION:2.0
CALSCALE:GREGORIAN
BEGIN:VEVENT
DTSTART;TZID=America/Los_Angeles:20250520T150000
DTEND;TZID= America/Los_Angeles:20250520T170000
UID:6f955a2b4ae5e4ef94d3361a25a9e450
DTSTAMP:1777120083
LOCATION:AU Online Store, , 
DESCRIPTION:
SUMMARY:Brie Leon Warehouse Sale
STATUS:CONFIRMED
END:VEVENT
END:VCALENDAR