BEGIN:VCALENDAR
VERSION:2.0
CALSCALE:GREGORIAN
BEGIN:VEVENT
DTSTART;TZID=Europe/London:20250509T080000
DTEND;TZID= Europe/London:20250509T090000
UID:23520af33a4f931537ad1af6448a3211
DTSTAMP:1776763094
LOCATION:Showcase Regent St, 12 Regent Street, St James\'s, SW1Y 4PE
DESCRIPTION:
SUMMARY:Vivere Sample Sale
STATUS:CONFIRMED
END:VEVENT
END:VCALENDAR