BEGIN:VCALENDAR
VERSION:2.0
CALSCALE:GREGORIAN
BEGIN:VEVENT
DTSTART;TZID=Europe/London:20250320T140000
DTEND;TZID= Europe/London:20250320T150000
UID:771736987b19be19c78895b2a3ad39ad
DTSTAMP:1776762511
LOCATION:Trafford Palazzo, Trafford Palazzo, Barton Dock Road, Trafford Park, Stretford, M17 8AS
DESCRIPTION:
SUMMARY:Juicy Couture Sample Sale
STATUS:CONFIRMED
END:VEVENT
END:VCALENDAR