BEGIN:VCALENDAR
VERSION:2.0
CALSCALE:GREGORIAN
BEGIN:VEVENT
DTSTART;TZID=Europe/London:20241018T100000
DTEND;TZID= Europe/London:20241018T110000
UID:e9d0612f03f7ed6fa487e1bdf14a94f0
DTSTAMP:1776761622
LOCATION:Showcase Regent St, 12 Regent Street, St James\'s, SW1Y 4PE
DESCRIPTION:
SUMMARY:Herschel Sample Sale - Early Access
STATUS:CONFIRMED
END:VEVENT
END:VCALENDAR