BEGIN:VCALENDAR
VERSION:2.0
CALSCALE:GREGORIAN
BEGIN:VEVENT
DTSTART;TZID=Australia/Melbourne:20240626T090000
DTEND;TZID= Australia/Melbourne:20240626T190000
UID:578137358cb1b51b6f7868743afdb134
DTSTAMP:1776763116
LOCATION:Clifton Street Market, 41-43 Clifton Street, Prahran, 3181
DESCRIPTION:
SUMMARY:Reformation Warehouse Sale - Up to 80% off
STATUS:CONFIRMED
END:VEVENT
END:VCALENDAR