BEGIN:VCALENDAR
VERSION:2.0
CALSCALE:GREGORIAN
BEGIN:VEVENT
DTSTART;TZID=Europe/London:20240828T080000
DTEND;TZID= Europe/London:20240828T093000
UID:d6644b46d33ecfac58838380f0ae8601
DTSTAMP:1776762950
LOCATION:Showcase Regent St, 12 Regent Street, St James\'s, SW1Y 4PE
DESCRIPTION:
SUMMARY:Self-Portrait Staff Sample Sale
STATUS:CONFIRMED
END:VEVENT
END:VCALENDAR