BEGIN:VCALENDAR
VERSION:2.0
CALSCALE:GREGORIAN
BEGIN:VEVENT
DTSTART;TZID=Europe/London:20240705T090000
DTEND;TZID= Europe/London:20240705T100000
UID:fea04c5da6a4d2f02d94719fb6278e73
DTSTAMP:1776605350
LOCATION:Showcase Regent St, 12 Regent Street, St James\'s, SW1Y 4PE
DESCRIPTION:
SUMMARY:Parajumpers Childrenswear Sample Sale - 60% off
STATUS:CONFIRMED
END:VEVENT
END:VCALENDAR