BEGIN:VCALENDAR
VERSION:2.0
CALSCALE:GREGORIAN
BEGIN:VEVENT
DTSTART;TZID=Europe/London:20240620T100000
DTEND;TZID= Europe/London:20240620T110000
UID:9f497c733fe29c2d837093ade75a6d53
DTSTAMP:1776762212
LOCATION:Showcase Regent St, 12 Regent Street, St James\'s, SW1Y 4PE
DESCRIPTION:
SUMMARY:Fabergé Sample Sale - Up to 70% off
STATUS:CONFIRMED
END:VEVENT
END:VCALENDAR