BEGIN:VCALENDAR
VERSION:2.0
CALSCALE:GREGORIAN
BEGIN:VEVENT
DTSTART;TZID=Europe/London:20240412T090000
DTEND;TZID= Europe/London:20240412T100000
UID:d6fa96a7195a12091b651c8404350512
DTSTAMP:1776762987
LOCATION:Showcase Regent St, 12 Regent Street, St James\'s, SW1Y 4PE
DESCRIPTION:
SUMMARY:DeMellier Sample Sale - Friends & Family Access
STATUS:CONFIRMED
END:VEVENT
END:VCALENDAR