BEGIN:VCALENDAR
VERSION:2.0
CALSCALE:GREGORIAN
BEGIN:VEVENT
DTSTART;TZID=Europe/London:20240207T100000
DTEND;TZID= Europe/London:20240207T110000
UID:3e29886de7db4f72285eca73c7e328e3
DTSTAMP:1776673666
LOCATION:Showcase Regent St, 12 Regent Street, St James\'s, SW1Y 4PE
DESCRIPTION:
SUMMARY:Stephen Webster Sample Sale - Up to 75% off
STATUS:CONFIRMED
END:VEVENT
END:VCALENDAR