BEGIN:VCALENDAR
VERSION:2.0
CALSCALE:GREGORIAN
BEGIN:VEVENT
DTSTART;TZID=Europe/London:20230927T090000
DTEND;TZID= Europe/London:20230927T103000
UID:88890a6b4bcd13d5c38c6e46c3f11491
DTSTAMP:1776975631
LOCATION:Showcase Regent St, 12 Regent Street, St James\'s, SW1Y 4PE
DESCRIPTION:
SUMMARY:Margaret Howell Sample Sale - Up to 80% off
STATUS:CONFIRMED
END:VEVENT
END:VCALENDAR