BEGIN:VCALENDAR
VERSION:2.0
CALSCALE:GREGORIAN
BEGIN:VEVENT
DTSTART;TZID=Europe/London:20221014T090000
DTEND;TZID= Europe/London:20221014T110000
UID:363cce2a6b6402fa61cbe8642d5eaeac
DTSTAMP:1776776929
LOCATION:The Mayfair Maison, 38 Grosvenor Square, W1K 2HN
DESCRIPTION:
SUMMARY:The Mayfair Maison - Up to 80% off
STATUS:CONFIRMED
END:VEVENT
END:VCALENDAR