BEGIN:VCALENDAR
VERSION:2.0
CALSCALE:GREGORIAN
BEGIN:VEVENT
DTSTART;TZID=America/Los_Angeles:20200526T000000
DTEND;TZID= America/Los_Angeles:20200526T013000
UID:af516970c94e2f86c99fbdc291c55fc3
DTSTAMP:1776605106
LOCATION:UK Online Store, , 
DESCRIPTION:Established in 1986, Helmut Lang is one of fashion\'s most influential brands, known for its pioneering minimalism, engagement with artists, and surprising challenges to orthodoxy.
SUMMARY:Helmut Lang & Theory Online Sample Sale - May 2020
STATUS:CONFIRMED
END:VEVENT
END:VCALENDAR