BEGIN:VCALENDAR
VERSION:2.0
CALSCALE:GREGORIAN
BEGIN:VEVENT
DTSTART;TZID=Europe/London:20190430T090000
DTEND;TZID= Europe/London:20190430T200000
UID:1ad43b392069964025796a563ed5c490
DTSTAMP:1776762782
LOCATION:Showcase Regent St, 12 Regent Street, St James\'s, SW1Y 4PE
DESCRIPTION:Mackintosh is a brand of modern heritage built on two hundred years of craftsmanship.
SUMMARY:Mackintosh
STATUS:CONFIRMED
END:VEVENT
END:VCALENDAR